BEGIN:VCALENDAR
VERSION:2.0
PRODID:-//San Francisco Bay Times - ECPv5.1.0//NONSGML v1.0//EN
CALSCALE:GREGORIAN
METHOD:PUBLISH
X-WR-CALNAME:San Francisco Bay Times
X-ORIGINAL-URL:https://sfbaytimes.com
X-WR-CALDESC:Events for San Francisco Bay Times
BEGIN:VTIMEZONE
TZID:America/Los_Angeles
BEGIN:DAYLIGHT
TZOFFSETFROM:-0800
TZOFFSETTO:-0700
TZNAME:PDT
DTSTART:20180311T100000
END:DAYLIGHT
BEGIN:STANDARD
TZOFFSETFROM:-0700
TZOFFSETTO:-0800
TZNAME:PST
DTSTART:20181104T090000
END:STANDARD
END:VTIMEZONE
BEGIN:VEVENT
DTSTART;TZID=America/Los_Angeles:20180330T190000
DTEND;TZID=America/Los_Angeles:20180330T190000
DTSTAMP:20260423T190048
CREATED:20180321T180317Z
LAST-MODIFIED:20180321T180317Z
UID:17212-1522436400-1522436400@sfbaytimes.com
SUMMARY:Julie Goldman
DESCRIPTION:@ The Laugh Cellar\, 5755 Mountain Hawk Drive\, Santa Rosa. The Los Angeles-based lesbian comedian\, along with comedian Belinda Carroll\, will present an evening of laughter in Santa Rosa. 7pm. crushersofcomedy.com/box-office.html \n
URL:https://sfbaytimes.com/event/julie-goldman/
END:VEVENT
END:VCALENDAR