BEGIN:VCALENDAR
VERSION:2.0
PRODID:-//San Francisco Bay Times - ECPv5.1.0//NONSGML v1.0//EN
CALSCALE:GREGORIAN
METHOD:PUBLISH
X-WR-CALNAME:San Francisco Bay Times
X-ORIGINAL-URL:https://sfbaytimes.com
X-WR-CALDESC:Events for San Francisco Bay Times
BEGIN:VTIMEZONE
TZID:America/Los_Angeles
BEGIN:DAYLIGHT
TZOFFSETFROM:-0800
TZOFFSETTO:-0700
TZNAME:PDT
DTSTART:20170312T100000
END:DAYLIGHT
BEGIN:STANDARD
TZOFFSETFROM:-0700
TZOFFSETTO:-0800
TZNAME:PST
DTSTART:20171105T090000
END:STANDARD
END:VTIMEZONE
BEGIN:VEVENT
DTSTART;TZID=America/Los_Angeles:20170902T183000
DTEND;TZID=America/Los_Angeles:20170902T183000
DTSTAMP:20260421T205708
CREATED:20170828T233247Z
LAST-MODIFIED:20170828T233247Z
UID:13964-1504377000-1504377000@sfbaytimes.com
SUMMARY:Julie Mehretu Art Exhibit
DESCRIPTION:@ San Francisco Museum of Modern Art\, Evelyn and Walter Haas Jr Atrium\, Floor 1\, 151 Third Street. The debut of Mehretu’s site-specific diptych’s two vast canvasses commissioned through a new program of SFMOMA. Artist Talk on Sept 14 at 6:30pm. exhibitsfmoma.org \n
URL:https://sfbaytimes.com/event/julie-mehretu-art-exhibit/
END:VEVENT
END:VCALENDAR