BEGIN:VCALENDAR
VERSION:2.0
PRODID:-//San Francisco Bay Times - ECPv5.1.0//NONSGML v1.0//EN
CALSCALE:GREGORIAN
METHOD:PUBLISH
X-WR-CALNAME:San Francisco Bay Times
X-ORIGINAL-URL:https://sfbaytimes.com
X-WR-CALDESC:Events for San Francisco Bay Times
BEGIN:VTIMEZONE
TZID:America/Los_Angeles
BEGIN:DAYLIGHT
TZOFFSETFROM:-0800
TZOFFSETTO:-0700
TZNAME:PDT
DTSTART:20170312T100000
END:DAYLIGHT
BEGIN:STANDARD
TZOFFSETFROM:-0700
TZOFFSETTO:-0800
TZNAME:PST
DTSTART:20171105T090000
END:STANDARD
END:VTIMEZONE
BEGIN:VEVENT
DTSTART;TZID=America/Los_Angeles:20170624T210000
DTEND;TZID=America/Los_Angeles:20170625T040000
DTSTAMP:20260421T190816
CREATED:20170620T204221Z
LAST-MODIFIED:20170620T204221Z
UID:12697-1498338000-1498363200@sfbaytimes.com
SUMMARY:Jungle Pride
DESCRIPTION:@ The Armory\, 333 14th Street. The biggest Pride party in SF at the infamous Armory\, this is a 360 degree dance party experience produced by Audrey Joseph and Brian Kent Productions. 9pm-4am. prideatthearmory.com \n
URL:https://sfbaytimes.com/event/jungle-pride/
END:VEVENT
END:VCALENDAR