BEGIN:VCALENDAR
VERSION:2.0
PRODID:-//San Francisco Bay Times - ECPv5.1.0//NONSGML v1.0//EN
CALSCALE:GREGORIAN
METHOD:PUBLISH
X-WR-CALNAME:San Francisco Bay Times
X-ORIGINAL-URL:https://sfbaytimes.com
X-WR-CALDESC:Events for San Francisco Bay Times
BEGIN:VTIMEZONE
TZID:America/Los_Angeles
BEGIN:DAYLIGHT
TZOFFSETFROM:-0800
TZOFFSETTO:-0700
TZNAME:PDT
DTSTART:20180311T100000
END:DAYLIGHT
BEGIN:STANDARD
TZOFFSETFROM:-0700
TZOFFSETTO:-0800
TZNAME:PST
DTSTART:20181104T090000
END:STANDARD
END:VTIMEZONE
BEGIN:VEVENT
DTSTART;TZID=America/Los_Angeles:20180818T160000
DTEND;TZID=America/Los_Angeles:20180818T160000
DTSTAMP:20260421T002701
CREATED:20180809T035941Z
LAST-MODIFIED:20180809T035941Z
UID:19076-1534608000-1534608000@sfbaytimes.com
SUMMARY:Krewe de Kinque August Benefit
DESCRIPTION:@ The Edge\, 4149 18th Street. Diana Wheeler hosts the monthly benefit\, featuring a “Back to School” theme with proceeds benefiting the Bal Masque XVI charity fund. 4pm. http://www.qbarsf.com/edge \n
URL:https://sfbaytimes.com/event/krewe-de-kinque-august-benefit/
END:VEVENT
END:VCALENDAR