BEGIN:VCALENDAR
VERSION:2.0
PRODID:-//San Francisco Bay Times - ECPv5.1.0//NONSGML v1.0//EN
CALSCALE:GREGORIAN
METHOD:PUBLISH
X-WR-CALNAME:San Francisco Bay Times
X-ORIGINAL-URL:https://sfbaytimes.com
X-WR-CALDESC:Events for San Francisco Bay Times
BEGIN:VTIMEZONE
TZID:America/Los_Angeles
BEGIN:DAYLIGHT
TZOFFSETFROM:-0800
TZOFFSETTO:-0700
TZNAME:PDT
DTSTART:20170312T100000
END:DAYLIGHT
BEGIN:STANDARD
TZOFFSETFROM:-0700
TZOFFSETTO:-0800
TZNAME:PST
DTSTART:20171105T090000
END:STANDARD
END:VTIMEZONE
BEGIN:VEVENT
DTSTART;TZID=America/Los_Angeles:20170610T100000
DTEND;TZID=America/Los_Angeles:20170610T170000
DTSTAMP:20260424T225628
CREATED:20170607T214823Z
LAST-MODIFIED:20170607T214823Z
UID:12469-1497088800-1497114000@sfbaytimes.com
SUMMARY:Ladies Go Biking – “Betty’s List”
DESCRIPTION:@ Ride out from Rockridge Bart Station and continues or 28 or 35 mile routes with leader Jackie Eaux. Betty’s List Ladies Go Biking Facebook Group (request to join). 10am. \n
URL:https://sfbaytimes.com/event/ladies-go-biking-bettys-list/
END:VEVENT
END:VCALENDAR