BEGIN:VCALENDAR
VERSION:2.0
PRODID:-//San Francisco Bay Times - ECPv5.1.0//NONSGML v1.0//EN
CALSCALE:GREGORIAN
METHOD:PUBLISH
X-WR-CALNAME:San Francisco Bay Times
X-ORIGINAL-URL:https://sfbaytimes.com
X-WR-CALDESC:Events for San Francisco Bay Times
BEGIN:VTIMEZONE
TZID:America/Los_Angeles
BEGIN:DAYLIGHT
TZOFFSETFROM:-0800
TZOFFSETTO:-0700
TZNAME:PDT
DTSTART:20190310T100000
END:DAYLIGHT
BEGIN:STANDARD
TZOFFSETFROM:-0700
TZOFFSETTO:-0800
TZNAME:PST
DTSTART:20191103T090000
END:STANDARD
END:VTIMEZONE
BEGIN:VEVENT
DTSTART;TZID=America/Los_Angeles:20190404T180000
DTEND;TZID=America/Los_Angeles:20190404T220000
DTSTAMP:20260420T161346
CREATED:20190322T040548Z
LAST-MODIFIED:20190322T040548Z
UID:22542-1554400800-1554415200@sfbaytimes.com
SUMMARY:Lambda Legal San Francisco Soiree
DESCRIPTION:@ The Pearl\, 601 19th Street. Now in its 45th year\, Lambda Legal presents its annual benefit where you are sure to find a lot of LGBT lawyers and those who love them. 6-10pm. http://www.lambdalegal.org \n
URL:https://sfbaytimes.com/event/lambda-legal-san-francisco-soiree/
END:VEVENT
END:VCALENDAR