BEGIN:VCALENDAR
VERSION:2.0
PRODID:-//San Francisco Bay Times - ECPv5.1.0//NONSGML v1.0//EN
CALSCALE:GREGORIAN
METHOD:PUBLISH
X-WR-CALNAME:San Francisco Bay Times
X-ORIGINAL-URL:https://sfbaytimes.com
X-WR-CALDESC:Events for San Francisco Bay Times
BEGIN:VTIMEZONE
TZID:America/Los_Angeles
BEGIN:DAYLIGHT
TZOFFSETFROM:-0800
TZOFFSETTO:-0700
TZNAME:PDT
DTSTART:20180311T100000
END:DAYLIGHT
BEGIN:STANDARD
TZOFFSETFROM:-0700
TZOFFSETTO:-0800
TZNAME:PST
DTSTART:20181104T090000
END:STANDARD
END:VTIMEZONE
BEGIN:VEVENT
DTSTART;TZID=America/Los_Angeles:20181006T180000
DTEND;TZID=America/Los_Angeles:20181006T180000
DTSTAMP:20260419T154715
CREATED:20181006T212501Z
LAST-MODIFIED:20181006T212501Z
UID:19841-1538848800-1538848800@sfbaytimes.com
SUMMARY:Latin Inspirations-Community Fall Concert
DESCRIPTION:@ Everett Middle School\, 450 Church Street. The annual autumn concert of the San Francisco Lesbian/Gay Freedom Band\, the program will feature works by Gershwin\, Chavez and Suesse. 6pm. http://www.sflgfb.org \n
URL:https://sfbaytimes.com/event/latin-inspirations-community-fall-concert/
END:VEVENT
END:VCALENDAR