BEGIN:VCALENDAR
VERSION:2.0
PRODID:-//San Francisco Bay Times - ECPv5.1.0//NONSGML v1.0//EN
CALSCALE:GREGORIAN
METHOD:PUBLISH
X-WR-CALNAME:San Francisco Bay Times
X-ORIGINAL-URL:https://sfbaytimes.com
X-WR-CALDESC:Events for San Francisco Bay Times
BEGIN:VTIMEZONE
TZID:America/Los_Angeles
BEGIN:DAYLIGHT
TZOFFSETFROM:-0800
TZOFFSETTO:-0700
TZNAME:PDT
DTSTART:20170312T100000
END:DAYLIGHT
BEGIN:STANDARD
TZOFFSETFROM:-0700
TZOFFSETTO:-0800
TZNAME:PST
DTSTART:20171105T090000
END:STANDARD
END:VTIMEZONE
BEGIN:VEVENT
DTSTART;TZID=America/Los_Angeles:20171111T140000
DTEND;TZID=America/Los_Angeles:20171111T160000
DTSTAMP:20260424T134926
CREATED:20171101T184459Z
LAST-MODIFIED:20171101T184459Z
UID:14940-1510408800-1510416000@sfbaytimes.com
SUMMARY:Laurel Bookstore Book Events
DESCRIPTION:@ Laurel Bookstore\, 1423 Broad Way\, Oakland. What If You Could Fly a Magic Carpet featuring author Ilona Bray (Mossby’s Magic Carpet Handbook: A Flyer’s Guide). 2-4pm. laurelbookstore.com \n
URL:https://sfbaytimes.com/event/laurel-bookstore-book-events-3/
END:VEVENT
END:VCALENDAR