BEGIN:VCALENDAR
VERSION:2.0
PRODID:-//San Francisco Bay Times - ECPv5.1.0//NONSGML v1.0//EN
CALSCALE:GREGORIAN
METHOD:PUBLISH
X-WR-CALNAME:San Francisco Bay Times
X-ORIGINAL-URL:https://sfbaytimes.com
X-WR-CALDESC:Events for San Francisco Bay Times
BEGIN:VTIMEZONE
TZID:America/Los_Angeles
BEGIN:DAYLIGHT
TZOFFSETFROM:-0800
TZOFFSETTO:-0700
TZNAME:PDT
DTSTART:20170312T100000
END:DAYLIGHT
BEGIN:STANDARD
TZOFFSETFROM:-0700
TZOFFSETTO:-0800
TZNAME:PST
DTSTART:20171105T090000
END:STANDARD
END:VTIMEZONE
BEGIN:VEVENT
DTSTART;TZID=America/Los_Angeles:20170606T200000
DTEND;TZID=America/Los_Angeles:20170606T200000
DTSTAMP:20260425T181937
CREATED:20170518T143445Z
LAST-MODIFIED:20170518T143445Z
UID:12442-1496779200-1496779200@sfbaytimes.com
SUMMARY:Laurie Lewis & Tom Rozum\, Barbara Higbie\, T Sisters\, Thompsonia\, Jenner Fox and special guests
DESCRIPTION:@ Freight & Salvage Coffeehouse\, 2020 Addison Street\, Berkeley. A great lineup of artists will perform with proceeds benefiting Foothill Conservancy and Friends of the River. 8pm. thefreight.org \n
URL:https://sfbaytimes.com/event/laurie-lewis-tom-rozum-barbara-higbie-t-sisters-thompsonia-jenner-fox-and-special-guests/
END:VEVENT
END:VCALENDAR