BEGIN:VCALENDAR
VERSION:2.0
PRODID:-//San Francisco Bay Times - ECPv5.1.0//NONSGML v1.0//EN
CALSCALE:GREGORIAN
METHOD:PUBLISH
X-WR-CALNAME:San Francisco Bay Times
X-ORIGINAL-URL:https://sfbaytimes.com
X-WR-CALDESC:Events for San Francisco Bay Times
BEGIN:VTIMEZONE
TZID:America/Los_Angeles
BEGIN:DAYLIGHT
TZOFFSETFROM:-0800
TZOFFSETTO:-0700
TZNAME:PDT
DTSTART:20170312T100000
END:DAYLIGHT
BEGIN:STANDARD
TZOFFSETFROM:-0700
TZOFFSETTO:-0800
TZNAME:PST
DTSTART:20171105T090000
END:STANDARD
END:VTIMEZONE
BEGIN:VEVENT
DTSTART;TZID=America/Los_Angeles:20170728T190000
DTEND;TZID=America/Los_Angeles:20170728T210000
DTSTAMP:20260423T142410
CREATED:20170728T193218Z
LAST-MODIFIED:20170728T193218Z
UID:13495-1501268400-1501275600@sfbaytimes.com
SUMMARY:Leather: Where We Came From\, Where We’re Going
DESCRIPTION:@ GLBT History Museum\, 4127 18th Street. Greg Pennington\, curator of the new South of Market: San Francisco’s Leather Scene display\, will facilitate a discussion by prominent leather community members\, authors and scholars\, including Race Bannon\, Rajat Dutta\, Jordy Tackitt-Jones and Gayle Rubin. 7-9pm discussion;\nsocial hour at 9pm. glbthitory.org \n
URL:https://sfbaytimes.com/event/leather-came-going/
END:VEVENT
END:VCALENDAR