BEGIN:VCALENDAR
VERSION:2.0
PRODID:-//San Francisco Bay Times - ECPv5.1.0//NONSGML v1.0//EN
CALSCALE:GREGORIAN
METHOD:PUBLISH
X-WR-CALNAME:San Francisco Bay Times
X-ORIGINAL-URL:https://sfbaytimes.com
X-WR-CALDESC:Events for San Francisco Bay Times
BEGIN:VTIMEZONE
TZID:America/Los_Angeles
BEGIN:DAYLIGHT
TZOFFSETFROM:-0800
TZOFFSETTO:-0700
TZNAME:PDT
DTSTART:20180311T100000
END:DAYLIGHT
BEGIN:STANDARD
TZOFFSETFROM:-0700
TZOFFSETTO:-0800
TZNAME:PST
DTSTART:20181104T090000
END:STANDARD
END:VTIMEZONE
BEGIN:VEVENT
DTSTART;TZID=America/Los_Angeles:20180316T180000
DTEND;TZID=America/Los_Angeles:20180316T213000
DTSTAMP:20260424T025023
CREATED:20180309T230455Z
LAST-MODIFIED:20180309T230455Z
UID:17107-1521223200-1521235800@sfbaytimes.com
SUMMARY:Lesbian Happy Hour/St. Paddy’s Day Party
DESCRIPTION:@ Vertigo\, 1160 Polk Street. SF Lesbian Happy Hour returns to host an evening of drinks\, dancing and socializing celebrating St. Patrick’s Day Weekend. 6–9:30pm. meetup.com/sflesbianhh \n
URL:https://sfbaytimes.com/event/lesbian-happy-hour-st-paddys-day-party/
END:VEVENT
END:VCALENDAR