BEGIN:VCALENDAR
VERSION:2.0
PRODID:-//San Francisco Bay Times - ECPv5.1.0//NONSGML v1.0//EN
CALSCALE:GREGORIAN
METHOD:PUBLISH
X-WR-CALNAME:San Francisco Bay Times
X-ORIGINAL-URL:https://sfbaytimes.com
X-WR-CALDESC:Events for San Francisco Bay Times
BEGIN:VTIMEZONE
TZID:America/Los_Angeles
BEGIN:DAYLIGHT
TZOFFSETFROM:-0800
TZOFFSETTO:-0700
TZNAME:PDT
DTSTART:20170312T100000
END:DAYLIGHT
BEGIN:STANDARD
TZOFFSETFROM:-0700
TZOFFSETTO:-0800
TZNAME:PST
DTSTART:20171105T090000
END:STANDARD
END:VTIMEZONE
BEGIN:VEVENT
DTSTART;TZID=America/Los_Angeles:20171116T183000
DTEND;TZID=America/Los_Angeles:20171116T210000
DTSTAMP:20260423T040603
CREATED:20171114T222812Z
LAST-MODIFIED:20171114T222812Z
UID:15132-1510857000-1510866000@sfbaytimes.com
SUMMARY:LGBT Alumni Mixer
DESCRIPTION:@ The Raven\, 1151 Folsom Street. Hosted by Berkeley and Princeton BTGALA\, the monthly mixer welcomes all alumni and friends. 6:30–9pm. btgala.tigernet.princeton.edu \n
URL:https://sfbaytimes.com/event/lgbt-alumni-mixer-3/
END:VEVENT
END:VCALENDAR