BEGIN:VCALENDAR
VERSION:2.0
PRODID:-//San Francisco Bay Times - ECPv5.1.0//NONSGML v1.0//EN
CALSCALE:GREGORIAN
METHOD:PUBLISH
X-WR-CALNAME:San Francisco Bay Times
X-ORIGINAL-URL:https://sfbaytimes.com
X-WR-CALDESC:Events for San Francisco Bay Times
BEGIN:VTIMEZONE
TZID:America/Los_Angeles
BEGIN:DAYLIGHT
TZOFFSETFROM:-0800
TZOFFSETTO:-0700
TZNAME:PDT
DTSTART:20180311T100000
END:DAYLIGHT
BEGIN:STANDARD
TZOFFSETFROM:-0700
TZOFFSETTO:-0800
TZNAME:PST
DTSTART:20181104T090000
END:STANDARD
END:VTIMEZONE
BEGIN:VEVENT
DTSTART;TZID=America/Los_Angeles:20180315T120000
DTEND;TZID=America/Los_Angeles:20180315T120000
DTSTAMP:20260424T040528
CREATED:20180309T225951Z
LAST-MODIFIED:20180309T225951Z
UID:17091-1521115200-1521115200@sfbaytimes.com
SUMMARY:LGBT Economic Agenda & Power Lunch
DESCRIPTION:@ San Francisco City Hall Opening Reception (Thursday\, March 15) and Hyatt Regency San Francisco. LGBTQ business leaders from throughout the Western states will convene in San Francisco for a two-day summit with breakout sessions and Power Lunch IV on Friday\, March 16\, 12noon. ggba.com \n
URL:https://sfbaytimes.com/event/lgbt-economic-agenda-power-lunch/
END:VEVENT
END:VCALENDAR