BEGIN:VCALENDAR
VERSION:2.0
PRODID:-//San Francisco Bay Times - ECPv5.1.0//NONSGML v1.0//EN
CALSCALE:GREGORIAN
METHOD:PUBLISH
X-WR-CALNAME:San Francisco Bay Times
X-ORIGINAL-URL:https://sfbaytimes.com
X-WR-CALDESC:Events for San Francisco Bay Times
BEGIN:VTIMEZONE
TZID:America/Los_Angeles
BEGIN:DAYLIGHT
TZOFFSETFROM:-0800
TZOFFSETTO:-0700
TZNAME:PDT
DTSTART:20170312T100000
END:DAYLIGHT
BEGIN:STANDARD
TZOFFSETFROM:-0700
TZOFFSETTO:-0800
TZNAME:PST
DTSTART:20171105T090000
END:STANDARD
END:VTIMEZONE
BEGIN:VEVENT
DTSTART;TZID=America/Los_Angeles:20170817T183000
DTEND;TZID=America/Los_Angeles:20170817T203000
DTSTAMP:20260422T074340
CREATED:20170809T233529Z
LAST-MODIFIED:20170809T233529Z
UID:13585-1502994600-1503001800@sfbaytimes.com
SUMMARY:LGBTQ Alumni Mixer
DESCRIPTION:@ Raven Bar & Lounge\, 1151 Folsom Street. A monthly cocktail mixer hosted by alumni of Ivy League and other colleges. 6:30-8:30pm. president@sfpennclub.com \n
URL:https://sfbaytimes.com/event/lgbtq-alumni-mixer/
END:VEVENT
END:VCALENDAR