BEGIN:VCALENDAR
VERSION:2.0
PRODID:-//San Francisco Bay Times - ECPv5.1.0//NONSGML v1.0//EN
CALSCALE:GREGORIAN
METHOD:PUBLISH
X-WR-CALNAME:San Francisco Bay Times
X-ORIGINAL-URL:https://sfbaytimes.com
X-WR-CALDESC:Events for San Francisco Bay Times
BEGIN:VTIMEZONE
TZID:America/Los_Angeles
BEGIN:DAYLIGHT
TZOFFSETFROM:-0800
TZOFFSETTO:-0700
TZNAME:PDT
DTSTART:20170312T100000
END:DAYLIGHT
BEGIN:STANDARD
TZOFFSETFROM:-0700
TZOFFSETTO:-0800
TZNAME:PST
DTSTART:20171105T090000
END:STANDARD
END:VTIMEZONE
BEGIN:VEVENT
DTSTART;TZID=America/Los_Angeles:20170810T190000
DTEND;TZID=America/Los_Angeles:20170810T210000
DTSTAMP:20260423T234455
CREATED:20170809T230342Z
LAST-MODIFIED:20170809T230342Z
UID:13536-1502391600-1502398800@sfbaytimes.com
SUMMARY:LGBTQ Portraits: A Queer Historical Perspective
DESCRIPTION:@ GLBT History Museum\, 4127 18th Street. Artist Lenore Chinn with Tirza Latimer\, Pamela Peniston and Rudy Lemcke will discuss how LGBTQ artists and sitters have queered the convention of the portrait plus the importance of portraiture.\n7-9pm. glbthistory.org \n
URL:https://sfbaytimes.com/event/lgbtq-portraits-queer-historical-perspective/
END:VEVENT
END:VCALENDAR