BEGIN:VCALENDAR
VERSION:2.0
PRODID:-//San Francisco Bay Times - ECPv5.1.0//NONSGML v1.0//EN
CALSCALE:GREGORIAN
METHOD:PUBLISH
X-WR-CALNAME:San Francisco Bay Times
X-ORIGINAL-URL:https://sfbaytimes.com
X-WR-CALDESC:Events for San Francisco Bay Times
BEGIN:VTIMEZONE
TZID:America/Los_Angeles
BEGIN:DAYLIGHT
TZOFFSETFROM:-0800
TZOFFSETTO:-0700
TZNAME:PDT
DTSTART:20190310T100000
END:DAYLIGHT
BEGIN:STANDARD
TZOFFSETFROM:-0700
TZOFFSETTO:-0800
TZNAME:PST
DTSTART:20191103T090000
END:STANDARD
END:VTIMEZONE
BEGIN:VEVENT
DTSTART;TZID=America/Los_Angeles:20190409T193000
DTEND;TZID=America/Los_Angeles:20190409T193000
DTSTAMP:20260420T142942
CREATED:20190403T223022Z
LAST-MODIFIED:20190403T223022Z
UID:22605-1554838200-1554838200@sfbaytimes.com
SUMMARY:Light in the Water Benefit Screening
DESCRIPTION:@ Kabuki Theater\, 1881 Post Street. Supporting the International Federation of Gay Games\, the film chronicles the evolution of West Hollywood Aquatics\, the first openly gay masters swim team. 7:30pm. https://gathr.us/screening/28561 \n
URL:https://sfbaytimes.com/event/light-water-benefit-screening/
END:VEVENT
END:VCALENDAR