BEGIN:VCALENDAR
VERSION:2.0
PRODID:-//San Francisco Bay Times - ECPv5.1.0//NONSGML v1.0//EN
CALSCALE:GREGORIAN
METHOD:PUBLISH
X-WR-CALNAME:San Francisco Bay Times
X-ORIGINAL-URL:https://sfbaytimes.com
X-WR-CALDESC:Events for San Francisco Bay Times
BEGIN:VTIMEZONE
TZID:America/Los_Angeles
BEGIN:DAYLIGHT
TZOFFSETFROM:-0800
TZOFFSETTO:-0700
TZNAME:PDT
DTSTART:20170312T100000
END:DAYLIGHT
BEGIN:STANDARD
TZOFFSETFROM:-0700
TZOFFSETTO:-0800
TZNAME:PST
DTSTART:20171105T090000
END:STANDARD
END:VTIMEZONE
BEGIN:VEVENT
DTSTART;TZID=America/Los_Angeles:20170623T200000
DTEND;TZID=America/Los_Angeles:20170623T200000
DTSTAMP:20260421T160422
CREATED:20170620T203542Z
LAST-MODIFIED:20170620T203542Z
UID:12685-1498248000-1498248000@sfbaytimes.com
SUMMARY:Lorna Luft
DESCRIPTION:@ Feinstein’s at the Nikko\, 222 Mason Street. The daughter of Judy Garland celebrates Pride reminding us of her mother’s connections to the modern gay rights movement. 8pm. feinsteinsatthenikko.com * \n
URL:https://sfbaytimes.com/event/lorna-luft/
END:VEVENT
END:VCALENDAR