BEGIN:VCALENDAR
VERSION:2.0
PRODID:-//San Francisco Bay Times - ECPv5.1.0//NONSGML v1.0//EN
CALSCALE:GREGORIAN
METHOD:PUBLISH
X-WR-CALNAME:San Francisco Bay Times
X-ORIGINAL-URL:https://sfbaytimes.com
X-WR-CALDESC:Events for San Francisco Bay Times
BEGIN:VTIMEZONE
TZID:America/Los_Angeles
BEGIN:DAYLIGHT
TZOFFSETFROM:-0800
TZOFFSETTO:-0700
TZNAME:PDT
DTSTART:20180311T100000
END:DAYLIGHT
BEGIN:STANDARD
TZOFFSETFROM:-0700
TZOFFSETTO:-0800
TZNAME:PST
DTSTART:20181104T090000
END:STANDARD
END:VTIMEZONE
BEGIN:VEVENT
DTSTART;TZID=America/Los_Angeles:20181018T190000
DTEND;TZID=America/Los_Angeles:20181018T190000
DTSTAMP:20260419T103348
CREATED:20181018T225348Z
LAST-MODIFIED:20181018T225348Z
UID:19996-1539889200-1539889200@sfbaytimes.com
SUMMARY:Love & Pride The Musical
DESCRIPTION:@ SF LGBT Community Center\, 1800 Market Street. An innovative new musical about identity and dialogue that follows the stories of six characters and their journeys. 7pm. Also on Oct. 25 and Nov. 1 & 8. http://www.loveandpridethemusical.com \n
URL:https://sfbaytimes.com/event/love-pride-musical/2018-10-18/
END:VEVENT
END:VCALENDAR