BEGIN:VCALENDAR
VERSION:2.0
PRODID:-//San Francisco Bay Times - ECPv5.1.0//NONSGML v1.0//EN
CALSCALE:GREGORIAN
METHOD:PUBLISH
X-WR-CALNAME:San Francisco Bay Times
X-ORIGINAL-URL:https://sfbaytimes.com
X-WR-CALDESC:Events for San Francisco Bay Times
BEGIN:VTIMEZONE
TZID:America/Los_Angeles
BEGIN:DAYLIGHT
TZOFFSETFROM:-0800
TZOFFSETTO:-0700
TZNAME:PDT
DTSTART:20170312T100000
END:DAYLIGHT
BEGIN:STANDARD
TZOFFSETFROM:-0700
TZOFFSETTO:-0800
TZNAME:PST
DTSTART:20171105T090000
END:STANDARD
END:VTIMEZONE
BEGIN:VEVENT
DTSTART;TZID=America/Los_Angeles:20170915T200000
DTEND;TZID=America/Los_Angeles:20170915T213000
DTSTAMP:20260421T213152
CREATED:20170908T213127Z
LAST-MODIFIED:20170908T213127Z
UID:14157-1505505600-1505511000@sfbaytimes.com
SUMMARY:Lumina Light Shows
DESCRIPTION:@ San Mateo County Pride Center\, 1021 South El Camino Real\, San Mateo. A laser light show will be presented with live music by artist Mariah Larkin. 8-9:30pm. sanmateopride.org \n
URL:https://sfbaytimes.com/event/lumina-light-shows/
END:VEVENT
END:VCALENDAR