BEGIN:VCALENDAR
VERSION:2.0
PRODID:-//San Francisco Bay Times - ECPv5.1.0//NONSGML v1.0//EN
CALSCALE:GREGORIAN
METHOD:PUBLISH
X-WR-CALNAME:San Francisco Bay Times
X-ORIGINAL-URL:https://sfbaytimes.com
X-WR-CALDESC:Events for San Francisco Bay Times
BEGIN:VTIMEZONE
TZID:America/Los_Angeles
BEGIN:DAYLIGHT
TZOFFSETFROM:-0800
TZOFFSETTO:-0700
TZNAME:PDT
DTSTART:20170312T100000
END:DAYLIGHT
BEGIN:STANDARD
TZOFFSETFROM:-0700
TZOFFSETTO:-0800
TZNAME:PST
DTSTART:20171105T090000
END:STANDARD
END:VTIMEZONE
BEGIN:VEVENT
DTSTART;TZID=America/Los_Angeles:20171118T170000
DTEND;TZID=America/Los_Angeles:20171118T200000
DTSTAMP:20260422T123027
CREATED:20171114T231324Z
LAST-MODIFIED:20171114T231324Z
UID:15150-1511024400-1511035200@sfbaytimes.com
SUMMARY:Macy’s 31st Holiday Windows Unveiling & Pet Adoptions
DESCRIPTION:@ Union Square\, 170 O’Farrell Street. SFSPCA’s pop-up adoption center inside Macy’s Holiday Windows. Unveiling 5-8pm; daily 11am-1pm\, 5-7pm through January 1. sfspca.org  \n
URL:https://sfbaytimes.com/event/macys-31st-holiday-windows-unveiling-pet-adoptions/
END:VEVENT
END:VCALENDAR