BEGIN:VCALENDAR
VERSION:2.0
PRODID:-//San Francisco Bay Times - ECPv5.1.0//NONSGML v1.0//EN
CALSCALE:GREGORIAN
METHOD:PUBLISH
X-WR-CALNAME:San Francisco Bay Times
X-ORIGINAL-URL:https://sfbaytimes.com
X-WR-CALDESC:Events for San Francisco Bay Times
BEGIN:VTIMEZONE
TZID:America/Los_Angeles
BEGIN:DAYLIGHT
TZOFFSETFROM:-0800
TZOFFSETTO:-0700
TZNAME:PDT
DTSTART:20190310T100000
END:DAYLIGHT
BEGIN:STANDARD
TZOFFSETFROM:-0700
TZOFFSETTO:-0800
TZNAME:PST
DTSTART:20191103T090000
END:STANDARD
END:VTIMEZONE
BEGIN:VEVENT
DTSTART;TZID=America/Los_Angeles:20190511T190000
DTEND;TZID=America/Los_Angeles:20190511T190000
DTSTAMP:20260420T161608
CREATED:20190501T214257Z
LAST-MODIFIED:20190501T214257Z
UID:23025-1557601200-1557601200@sfbaytimes.com
SUMMARY:Many Stories\, Shared Liberation - A Conversation with Alicia Garza
DESCRIPTION:@ First Presbyterian Church of Berkeley\, 2407 Dana Street\, Berkeley. The Black Lives Matters co-founder and civil rights activist will speak\, followed by a conversation with Rabbi Dev Noily and Jewish activists of color on how to work together to dismantle white supremacy and antisemitism. 7pm. http://www.kehillasynagogue.org \n
URL:https://sfbaytimes.com/event/many-stories-shared-liberation-conversation-alicia-garza/
END:VEVENT
END:VCALENDAR