BEGIN:VCALENDAR
VERSION:2.0
PRODID:-//San Francisco Bay Times - ECPv5.1.0//NONSGML v1.0//EN
CALSCALE:GREGORIAN
METHOD:PUBLISH
X-WR-CALNAME:San Francisco Bay Times
X-ORIGINAL-URL:https://sfbaytimes.com
X-WR-CALDESC:Events for San Francisco Bay Times
BEGIN:VTIMEZONE
TZID:America/Los_Angeles
BEGIN:DAYLIGHT
TZOFFSETFROM:-0800
TZOFFSETTO:-0700
TZNAME:PDT
DTSTART:20180311T100000
END:DAYLIGHT
BEGIN:STANDARD
TZOFFSETFROM:-0700
TZOFFSETTO:-0800
TZNAME:PST
DTSTART:20181104T090000
END:STANDARD
END:VTIMEZONE
BEGIN:VEVENT
DTSTART;TZID=America/Los_Angeles:20180324T100000
DTEND;TZID=America/Los_Angeles:20180324T100000
DTSTAMP:20260423T221307
CREATED:20180321T174016Z
LAST-MODIFIED:20180321T174016Z
UID:17180-1521885600-1521885600@sfbaytimes.com
SUMMARY:March for Our Lives - Taking Action on Gun Control
DESCRIPTION:@ More than 800 locations will host a march in response to the recent Parkland\, Florida\, shooting at Marjory Stoneman Douglas High School. Events are planned in San Francisco\, Oakland\, Alameda\, Pacifica and more Bay Area locations. For a list of cities and details\, visit marchforourlives.com \n
URL:https://sfbaytimes.com/event/march-lives-taking-action-gun-control/
END:VEVENT
END:VCALENDAR