BEGIN:VCALENDAR
VERSION:2.0
PRODID:-//San Francisco Bay Times - ECPv5.1.0//NONSGML v1.0//EN
CALSCALE:GREGORIAN
METHOD:PUBLISH
X-WR-CALNAME:San Francisco Bay Times
X-ORIGINAL-URL:https://sfbaytimes.com
X-WR-CALDESC:Events for San Francisco Bay Times
BEGIN:VTIMEZONE
TZID:America/Los_Angeles
BEGIN:DAYLIGHT
TZOFFSETFROM:-0800
TZOFFSETTO:-0700
TZNAME:PDT
DTSTART:20180311T100000
END:DAYLIGHT
BEGIN:STANDARD
TZOFFSETFROM:-0700
TZOFFSETTO:-0800
TZNAME:PST
DTSTART:20181104T090000
END:STANDARD
END:VTIMEZONE
BEGIN:VEVENT
DTSTART;TZID=America/Los_Angeles:20180323T200000
DTEND;TZID=America/Los_Angeles:20180323T200000
DTSTAMP:20260423T221358
CREATED:20180321T173602Z
LAST-MODIFIED:20180321T173602Z
UID:17176-1521835200-1521835200@sfbaytimes.com
SUMMARY:Marga Gomez’s Latin Standards
DESCRIPTION:@ Brava Theater Center\, 2781 24th Street. Gomez brings her twelfth and final solo show back to Brava for nine performances through April 1. Fridays & Saturdays\, 8pm; Sundays\, 7pm. brava.org \n
URL:https://sfbaytimes.com/event/marga-gomezs-latin-standards-3/
END:VEVENT
END:VCALENDAR