BEGIN:VCALENDAR
VERSION:2.0
PRODID:-//San Francisco Bay Times - ECPv5.1.0//NONSGML v1.0//EN
CALSCALE:GREGORIAN
METHOD:PUBLISH
X-WR-CALNAME:San Francisco Bay Times
X-ORIGINAL-URL:https://sfbaytimes.com
X-WR-CALDESC:Events for San Francisco Bay Times
BEGIN:VTIMEZONE
TZID:America/Los_Angeles
BEGIN:DAYLIGHT
TZOFFSETFROM:-0800
TZOFFSETTO:-0700
TZNAME:PDT
DTSTART:20180311T100000
END:DAYLIGHT
BEGIN:STANDARD
TZOFFSETFROM:-0700
TZOFFSETTO:-0800
TZNAME:PST
DTSTART:20181104T090000
END:STANDARD
END:VTIMEZONE
BEGIN:VEVENT
DTSTART;VALUE=DATE:20180929
DTEND;VALUE=DATE:20180930
DTSTAMP:20260419T232731
CREATED:20180923T204135Z
LAST-MODIFIED:20180923T204135Z
UID:19643-1538179200-1538265599@sfbaytimes.com
SUMMARY:Matthew Morrison
DESCRIPTION:@ Bay Area Cabaret\, The Venetian Room\, San Francisco Fairmont\, 950 Mason Street. Opening night of the 15th Anniversary Season for Bay Area Cabaret will feature Tony\, Emmy and Golden Globe award nominee Matthew Morrison in his San Francisco solo concert debut. http://www.bayareacabaret.org \n
URL:https://sfbaytimes.com/event/matthew-morrison/
END:VEVENT
END:VCALENDAR