BEGIN:VCALENDAR
VERSION:2.0
PRODID:-//San Francisco Bay Times - ECPv5.1.0//NONSGML v1.0//EN
CALSCALE:GREGORIAN
METHOD:PUBLISH
X-WR-CALNAME:San Francisco Bay Times
X-ORIGINAL-URL:https://sfbaytimes.com
X-WR-CALDESC:Events for San Francisco Bay Times
BEGIN:VTIMEZONE
TZID:America/Los_Angeles
BEGIN:DAYLIGHT
TZOFFSETFROM:-0800
TZOFFSETTO:-0700
TZNAME:PDT
DTSTART:20170312T100000
END:DAYLIGHT
BEGIN:STANDARD
TZOFFSETFROM:-0700
TZOFFSETTO:-0800
TZNAME:PST
DTSTART:20171105T090000
END:STANDARD
END:VTIMEZONE
BEGIN:VEVENT
DTSTART;TZID=America/Los_Angeles:20170817T170000
DTEND;TZID=America/Los_Angeles:20170817T200000
DTSTAMP:20260422T104531
CREATED:20170809T233138Z
LAST-MODIFIED:20170809T233138Z
UID:13581-1502989200-1503000000@sfbaytimes.com
SUMMARY:MAX 3rd Thursday Happy Hour
DESCRIPTION:@ Beaux\, 2344 Market Street. Gay men and friends meet for conversation\, food and piano performances. 5-8pm. maxsf.org \n
URL:https://sfbaytimes.com/event/max-3rd-thursday-happy-hour/
END:VEVENT
END:VCALENDAR