BEGIN:VCALENDAR
VERSION:2.0
PRODID:-//San Francisco Bay Times - ECPv5.1.0//NONSGML v1.0//EN
CALSCALE:GREGORIAN
METHOD:PUBLISH
X-WR-CALNAME:San Francisco Bay Times
X-ORIGINAL-URL:https://sfbaytimes.com
X-WR-CALDESC:Events for San Francisco Bay Times
BEGIN:VTIMEZONE
TZID:America/Los_Angeles
BEGIN:DAYLIGHT
TZOFFSETFROM:-0800
TZOFFSETTO:-0700
TZNAME:PDT
DTSTART:20170312T100000
END:DAYLIGHT
BEGIN:STANDARD
TZOFFSETFROM:-0700
TZOFFSETTO:-0800
TZNAME:PST
DTSTART:20171105T090000
END:STANDARD
END:VTIMEZONE
BEGIN:VEVENT
DTSTART;TZID=America/Los_Angeles:20170910T100000
DTEND;TZID=America/Los_Angeles:20170910T150000
DTSTAMP:20260421T141315
CREATED:20170908T211421Z
LAST-MODIFIED:20170908T211421Z
UID:14117-1505037600-1505055600@sfbaytimes.com
SUMMARY:MAX’s Sunday in the Museum with Edgar (Degas)
DESCRIPTION:@ Legion of Honor Museum\, 100 34th Avenue.  A crowd of gay men and their friends will enjoy a fun-filled day at the Museum. 10am-3pm. maxsf.org \n
URL:https://sfbaytimes.com/event/maxs-sunday-museum-edgar-degas/
END:VEVENT
END:VCALENDAR