BEGIN:VCALENDAR
VERSION:2.0
PRODID:-//San Francisco Bay Times - ECPv5.1.0//NONSGML v1.0//EN
CALSCALE:GREGORIAN
METHOD:PUBLISH
X-WR-CALNAME:San Francisco Bay Times
X-ORIGINAL-URL:https://sfbaytimes.com
X-WR-CALDESC:Events for San Francisco Bay Times
BEGIN:VTIMEZONE
TZID:America/Los_Angeles
BEGIN:DAYLIGHT
TZOFFSETFROM:-0800
TZOFFSETTO:-0700
TZNAME:PDT
DTSTART:20170312T100000
END:DAYLIGHT
BEGIN:STANDARD
TZOFFSETFROM:-0700
TZOFFSETTO:-0800
TZNAME:PST
DTSTART:20171105T090000
END:STANDARD
END:VTIMEZONE
BEGIN:VEVENT
DTSTART;TZID=America/Los_Angeles:20170922T190000
DTEND;TZID=America/Los_Angeles:20170922T190000
DTSTAMP:20260422T082133
CREATED:20170921T231840Z
LAST-MODIFIED:20170921T231840Z
UID:14288-1506106800-1506106800@sfbaytimes.com
SUMMARY:Maya Songbird & The Homobiles
DESCRIPTION:@ The Octopus Literary Salon\, 2101 Webster Street at 22nd\, Oakland. Unique performers at a unique East Bay venue. oaklandoctopus.org \n
URL:https://sfbaytimes.com/event/maya-songbird-homobiles/
END:VEVENT
END:VCALENDAR