BEGIN:VCALENDAR
VERSION:2.0
PRODID:-//San Francisco Bay Times - ECPv5.1.0//NONSGML v1.0//EN
CALSCALE:GREGORIAN
METHOD:PUBLISH
X-WR-CALNAME:San Francisco Bay Times
X-ORIGINAL-URL:https://sfbaytimes.com
X-WR-CALDESC:Events for San Francisco Bay Times
BEGIN:VTIMEZONE
TZID:America/Los_Angeles
BEGIN:DAYLIGHT
TZOFFSETFROM:-0800
TZOFFSETTO:-0700
TZNAME:PDT
DTSTART:20180311T100000
END:DAYLIGHT
BEGIN:STANDARD
TZOFFSETFROM:-0700
TZOFFSETTO:-0800
TZNAME:PST
DTSTART:20181104T090000
END:STANDARD
END:VTIMEZONE
BEGIN:VEVENT
DTSTART;TZID=America/Los_Angeles:20180126T200000
DTEND;TZID=America/Los_Angeles:20180126T200000
DTSTAMP:20260425T103418
CREATED:20180125T231358Z
LAST-MODIFIED:20180125T231358Z
UID:16372-1516996800-1516996800@sfbaytimes.com
SUMMARY:Megabytes! The Musical
DESCRIPTION:@ Shelton Theater\, 533 Sutter Street. A world premiere musical comedy revue by Morris Bobrow on the frustrations\, annoyances and occasional joys of tech. 8pm through March 3. goldstar.com \n
URL:https://sfbaytimes.com/event/megabytes-the-musical/
END:VEVENT
END:VCALENDAR