BEGIN:VCALENDAR
VERSION:2.0
PRODID:-//San Francisco Bay Times - ECPv5.1.0//NONSGML v1.0//EN
CALSCALE:GREGORIAN
METHOD:PUBLISH
X-WR-CALNAME:San Francisco Bay Times
X-ORIGINAL-URL:https://sfbaytimes.com
X-WR-CALDESC:Events for San Francisco Bay Times
BEGIN:VTIMEZONE
TZID:America/Los_Angeles
BEGIN:DAYLIGHT
TZOFFSETFROM:-0800
TZOFFSETTO:-0700
TZNAME:PDT
DTSTART:20190310T100000
END:DAYLIGHT
BEGIN:STANDARD
TZOFFSETFROM:-0700
TZOFFSETTO:-0800
TZNAME:PST
DTSTART:20191103T090000
END:STANDARD
END:VTIMEZONE
BEGIN:VEVENT
DTSTART;TZID=America/Los_Angeles:20190516T100000
DTEND;TZID=America/Los_Angeles:20190516T210000
DTSTAMP:20260420T161506
CREATED:20190515T214106Z
LAST-MODIFIED:20190515T214106Z
UID:23152-1558000800-1558040400@sfbaytimes.com
SUMMARY:Member Preview/Andy Warhol-From A to B and Back Again
DESCRIPTION:@ SF Museum of Modern Art\, 151 3rd Street. Join SFMOMA and gain access to three days of exclusive previews\, early weekend entry and a Summer Exhibition Party. 10am-9pm. http://www.sfmoma.org \n
URL:https://sfbaytimes.com/event/member-preview-andy-warhol-b-back-2/
END:VEVENT
END:VCALENDAR