BEGIN:VCALENDAR
VERSION:2.0
PRODID:-//San Francisco Bay Times - ECPv5.1.0//NONSGML v1.0//EN
CALSCALE:GREGORIAN
METHOD:PUBLISH
X-WR-CALNAME:San Francisco Bay Times
X-ORIGINAL-URL:https://sfbaytimes.com
X-WR-CALDESC:Events for San Francisco Bay Times
BEGIN:VTIMEZONE
TZID:America/Los_Angeles
BEGIN:DAYLIGHT
TZOFFSETFROM:-0800
TZOFFSETTO:-0700
TZNAME:PDT
DTSTART:20190310T100000
END:DAYLIGHT
BEGIN:STANDARD
TZOFFSETFROM:-0700
TZOFFSETTO:-0800
TZNAME:PST
DTSTART:20191103T090000
END:STANDARD
END:VTIMEZONE
BEGIN:VEVENT
DTSTART;TZID=America/Los_Angeles:20190510T200000
DTEND;TZID=America/Los_Angeles:20190510T200000
DTSTAMP:20260420T175433
CREATED:20190501T214015Z
LAST-MODIFIED:20190501T214015Z
UID:23017-1557518400-1557518400@sfbaytimes.com
SUMMARY:Michael Feinstein
DESCRIPTION:@ Feinstein’s at The Nikko\, 222 Mason Street. Two-time Emmy Award and five-time Grammy Award-nominated entertainer Michael Feinstein returns to San Francisco to perform at his namesake venue. 8pm continuing on May 11 and 12. http://www.feinsteinsatthenikko.com \n
URL:https://sfbaytimes.com/event/michael-feinstein-2/2019-05-10/
END:VEVENT
END:VCALENDAR