BEGIN:VCALENDAR
VERSION:2.0
PRODID:-//San Francisco Bay Times - ECPv5.1.0//NONSGML v1.0//EN
CALSCALE:GREGORIAN
METHOD:PUBLISH
X-WR-CALNAME:San Francisco Bay Times
X-ORIGINAL-URL:https://sfbaytimes.com
X-WR-CALDESC:Events for San Francisco Bay Times
BEGIN:VTIMEZONE
TZID:America/Los_Angeles
BEGIN:DAYLIGHT
TZOFFSETFROM:-0800
TZOFFSETTO:-0700
TZNAME:PDT
DTSTART:20180311T100000
END:DAYLIGHT
BEGIN:STANDARD
TZOFFSETFROM:-0700
TZOFFSETTO:-0800
TZNAME:PST
DTSTART:20181104T090000
END:STANDARD
END:VTIMEZONE
BEGIN:VEVENT
DTSTART;TZID=America/Los_Angeles:20180315T190000
DTEND;TZID=America/Los_Angeles:20180315T190000
DTSTAMP:20260424T040414
CREATED:20180309T230136Z
LAST-MODIFIED:20180309T230136Z
UID:17097-1521140400-1521140400@sfbaytimes.com
SUMMARY:Michael Tilson Thomas and San Francisco Symphony Sudden Changes World Premiere
DESCRIPTION:@ Davies Symphony Hall\, 201 Van Ness. MTT and the orchestra will perform the world premiere of the new work by composer Charles Wuorinen plus Copland’s Symphony No. 3 and Prokofiev’s Piano Concerto No. 3. Also March 16 and 17.  \nsfsymphony.org \n
URL:https://sfbaytimes.com/event/michael-tilson-thomas-san-francisco-symphony-sudden-changes-world-premiere/
END:VEVENT
END:VCALENDAR