BEGIN:VCALENDAR
VERSION:2.0
PRODID:-//San Francisco Bay Times - ECPv5.1.0//NONSGML v1.0//EN
CALSCALE:GREGORIAN
METHOD:PUBLISH
X-WR-CALNAME:San Francisco Bay Times
X-ORIGINAL-URL:https://sfbaytimes.com
X-WR-CALDESC:Events for San Francisco Bay Times
BEGIN:VTIMEZONE
TZID:America/Los_Angeles
BEGIN:DAYLIGHT
TZOFFSETFROM:-0800
TZOFFSETTO:-0700
TZNAME:PDT
DTSTART:20180311T100000
END:DAYLIGHT
BEGIN:STANDARD
TZOFFSETFROM:-0700
TZOFFSETTO:-0800
TZNAME:PST
DTSTART:20181104T090000
END:STANDARD
END:VTIMEZONE
BEGIN:VEVENT
DTSTART;TZID=America/Los_Angeles:20180127T090000
DTEND;TZID=America/Los_Angeles:20180127T170000
DTSTAMP:20260425T102651
CREATED:20180125T232439Z
LAST-MODIFIED:20180125T232439Z
UID:16374-1517043600-1517072400@sfbaytimes.com
SUMMARY:Mind\, Body and Soul
DESCRIPTION:@ Oakland City Center Marriott\, 12th Street. The event features speakers and workshops designed to support the health and wellness of the Bay Area’s diverse gay communities\, addressing topics such as relationships and intimacy\, building a spiritual foundation\, increasing safe sexual pleasure and more. 9am–5pm. californiaptc.com \n
URL:https://sfbaytimes.com/event/mind-body-soul/
END:VEVENT
END:VCALENDAR