BEGIN:VCALENDAR
VERSION:2.0
PRODID:-//San Francisco Bay Times - ECPv5.1.0//NONSGML v1.0//EN
CALSCALE:GREGORIAN
METHOD:PUBLISH
X-WR-CALNAME:San Francisco Bay Times
X-ORIGINAL-URL:https://sfbaytimes.com
X-WR-CALDESC:Events for San Francisco Bay Times
BEGIN:VTIMEZONE
TZID:America/Los_Angeles
BEGIN:DAYLIGHT
TZOFFSETFROM:-0800
TZOFFSETTO:-0700
TZNAME:PDT
DTSTART:20180311T100000
END:DAYLIGHT
BEGIN:STANDARD
TZOFFSETFROM:-0700
TZOFFSETTO:-0800
TZNAME:PST
DTSTART:20181104T090000
END:STANDARD
END:VTIMEZONE
BEGIN:VEVENT
DTSTART;TZID=America/Los_Angeles:20180121T160000
DTEND;TZID=America/Los_Angeles:20180121T160000
DTSTAMP:20260425T135919
CREATED:20180116T031857Z
LAST-MODIFIED:20180116T031857Z
UID:16223-1516550400-1516550400@sfbaytimes.com
SUMMARY:Minus Zero Presents: Musicians for Planned Parenthood
DESCRIPTION:@ The Ivy Room\, 860 San Pablo Avenue\, Albany. A host of performers come together to create a fundraiser for Planned Parenthood. 4pm. ivyroom.com \n
URL:https://sfbaytimes.com/event/minus-zero-presents-musicians-planned-parenthood/
END:VEVENT
END:VCALENDAR