BEGIN:VCALENDAR
VERSION:2.0
PRODID:-//San Francisco Bay Times - ECPv5.1.0//NONSGML v1.0//EN
CALSCALE:GREGORIAN
METHOD:PUBLISH
X-WR-CALNAME:San Francisco Bay Times
X-ORIGINAL-URL:https://sfbaytimes.com
X-WR-CALDESC:Events for San Francisco Bay Times
BEGIN:VTIMEZONE
TZID:America/Los_Angeles
BEGIN:DAYLIGHT
TZOFFSETFROM:-0800
TZOFFSETTO:-0700
TZNAME:PDT
DTSTART:20170312T100000
END:DAYLIGHT
BEGIN:STANDARD
TZOFFSETFROM:-0700
TZOFFSETTO:-0800
TZNAME:PST
DTSTART:20171105T090000
END:STANDARD
END:VTIMEZONE
BEGIN:VEVENT
DTSTART;TZID=America/Los_Angeles:20170618T140000
DTEND;TZID=America/Los_Angeles:20170618T170000
DTSTAMP:20260423T024501
CREATED:20170607T221424Z
LAST-MODIFIED:20170607T221424Z
UID:12529-1497794400-1497805200@sfbaytimes.com
SUMMARY:Mountain Play presents Disney’s Beauty and the Beast
DESCRIPTION:@ Mt. Tamalpais State Park. The Disney classic will be preformed in the outdoor amphitheater at Mt. Tam. Final performances on June18. Gates 9 am / Show 2 pm. mountainplay.org\n\n
URL:https://sfbaytimes.com/event/mountain-play-presents-disneys-beauty-and-the-beast-2/
END:VEVENT
END:VCALENDAR