BEGIN:VCALENDAR
VERSION:2.0
PRODID:-//San Francisco Bay Times - ECPv5.1.0//NONSGML v1.0//EN
CALSCALE:GREGORIAN
METHOD:PUBLISH
X-WR-CALNAME:San Francisco Bay Times
X-ORIGINAL-URL:https://sfbaytimes.com
X-WR-CALDESC:Events for San Francisco Bay Times
BEGIN:VTIMEZONE
TZID:America/Los_Angeles
BEGIN:DAYLIGHT
TZOFFSETFROM:-0800
TZOFFSETTO:-0700
TZNAME:PDT
DTSTART:20180311T100000
END:DAYLIGHT
BEGIN:STANDARD
TZOFFSETFROM:-0700
TZOFFSETTO:-0800
TZNAME:PST
DTSTART:20181104T090000
END:STANDARD
END:VTIMEZONE
BEGIN:VEVENT
DTSTART;TZID=America/Los_Angeles:20181006T160000
DTEND;TZID=America/Los_Angeles:20181006T160000
DTSTAMP:20260419T173438
CREATED:20181006T212325Z
LAST-MODIFIED:20181006T212325Z
UID:19835-1538841600-1538841600@sfbaytimes.com
SUMMARY:Mr & Miss Gay San Francisco Pageant
DESCRIPTION:@ Hamburger Mary’s\, 531 Castro Street. Sponsored by the Imperial Council of SF and featuring a Moulin Rouge theme\, the event will be emceed by Misty Blue and includes contestants vying for titles. 4:30pm. http://www.imperialcouncilsf.org \n
URL:https://sfbaytimes.com/event/mr-miss-gay-san-francisco-pageant-2/
END:VEVENT
END:VCALENDAR