BEGIN:VCALENDAR
VERSION:2.0
PRODID:-//San Francisco Bay Times - ECPv5.1.0//NONSGML v1.0//EN
CALSCALE:GREGORIAN
METHOD:PUBLISH
X-WR-CALNAME:San Francisco Bay Times
X-ORIGINAL-URL:https://sfbaytimes.com
X-WR-CALDESC:Events for San Francisco Bay Times
BEGIN:VTIMEZONE
TZID:America/Los_Angeles
BEGIN:DAYLIGHT
TZOFFSETFROM:-0800
TZOFFSETTO:-0700
TZNAME:PDT
DTSTART:20190310T100000
END:DAYLIGHT
BEGIN:STANDARD
TZOFFSETFROM:-0700
TZOFFSETTO:-0800
TZNAME:PST
DTSTART:20191103T090000
END:STANDARD
END:VTIMEZONE
BEGIN:VEVENT
DTSTART;TZID=America/Los_Angeles:20190220T190000
DTEND;TZID=America/Los_Angeles:20190220T220000
DTSTAMP:20260420T112822
CREATED:20190208T235731Z
LAST-MODIFIED:20190208T235731Z
UID:21881-1550689200-1550700000@sfbaytimes.com
SUMMARY:Mr. & Miss Golden Gate Gayme Night
DESCRIPTION:@ Brewcade SF\, 2200 Market Street #B. This monthly benefit for Strut will be hosted by Robert Rushin and Tye with food and drink specials\, arcade games\, drag performances and prizes. 7-10pm. http://www.brewcadesf.com \n
URL:https://sfbaytimes.com/event/mr-miss-golden-gate-gayme-night-3/
END:VEVENT
END:VCALENDAR