BEGIN:VCALENDAR
VERSION:2.0
PRODID:-//San Francisco Bay Times - ECPv5.1.0//NONSGML v1.0//EN
CALSCALE:GREGORIAN
METHOD:PUBLISH
X-WR-CALNAME:San Francisco Bay Times
X-ORIGINAL-URL:https://sfbaytimes.com
X-WR-CALDESC:Events for San Francisco Bay Times
BEGIN:VTIMEZONE
TZID:America/Los_Angeles
BEGIN:DAYLIGHT
TZOFFSETFROM:-0800
TZOFFSETTO:-0700
TZNAME:PDT
DTSTART:20190310T100000
END:DAYLIGHT
BEGIN:STANDARD
TZOFFSETFROM:-0700
TZOFFSETTO:-0800
TZNAME:PST
DTSTART:20191103T090000
END:STANDARD
END:VTIMEZONE
BEGIN:VEVENT
DTSTART;TZID=America/Los_Angeles:20190515T190000
DTEND;TZID=America/Los_Angeles:20190515T220000
DTSTAMP:20260420T174915
CREATED:20190501T220022Z
LAST-MODIFIED:20190501T220022Z
UID:23043-1557946800-1557957600@sfbaytimes.com
SUMMARY:Mr. and Miss Golden Gate Gaymer Night
DESCRIPTION:@ Brewcade SF\, 2200 Market Street\, #B. GG Gayme Night kicks off a new venue for this ongoing group night out featuring drink specials\, arcade games\, drag performances and locally sponsored prizes with proceeds to benefit Strut. 7-10pm. http://www.brewcadesf.com \n
URL:https://sfbaytimes.com/event/mr-miss-golden-gate-gaymer-night-2/
END:VEVENT
END:VCALENDAR