BEGIN:VCALENDAR
VERSION:2.0
PRODID:-//San Francisco Bay Times - ECPv5.1.0//NONSGML v1.0//EN
CALSCALE:GREGORIAN
METHOD:PUBLISH
X-WR-CALNAME:San Francisco Bay Times
X-ORIGINAL-URL:https://sfbaytimes.com
X-WR-CALDESC:Events for San Francisco Bay Times
BEGIN:VTIMEZONE
TZID:America/Los_Angeles
BEGIN:DAYLIGHT
TZOFFSETFROM:-0800
TZOFFSETTO:-0700
TZNAME:PDT
DTSTART:20170312T100000
END:DAYLIGHT
BEGIN:STANDARD
TZOFFSETFROM:-0700
TZOFFSETTO:-0800
TZNAME:PST
DTSTART:20171105T090000
END:STANDARD
END:VTIMEZONE
BEGIN:VEVENT
DTSTART;TZID=America/Los_Angeles:20171115T190000
DTEND;TZID=America/Los_Angeles:20171115T190000
DTSTAMP:20260423T160020
CREATED:20171101T185448Z
LAST-MODIFIED:20171101T185448Z
UID:14968-1510772400-1510772400@sfbaytimes.com
SUMMARY:MSNBC’s Lawrence O’Donnel: Playing with Fire
DESCRIPTION:@ Marines Memorial Theatre\, 609 Sutter Street. As a pioneer in the field of political commentary\, O’Donnel will talk bout his new book telling the story of a country coming apart at the seams and the electioneering that took advantage of the chaos. 7pm. marinesmemorialtheatre.com \n
URL:https://sfbaytimes.com/event/msnbcs-lawrence-odonnel-playing-fire/
END:VEVENT
END:VCALENDAR