BEGIN:VCALENDAR
VERSION:2.0
PRODID:-//San Francisco Bay Times - ECPv5.1.0//NONSGML v1.0//EN
CALSCALE:GREGORIAN
METHOD:PUBLISH
X-WR-CALNAME:San Francisco Bay Times
X-ORIGINAL-URL:https://sfbaytimes.com
X-WR-CALDESC:Events for San Francisco Bay Times
BEGIN:VTIMEZONE
TZID:America/Los_Angeles
BEGIN:DAYLIGHT
TZOFFSETFROM:-0800
TZOFFSETTO:-0700
TZNAME:PDT
DTSTART:20170312T100000
END:DAYLIGHT
BEGIN:STANDARD
TZOFFSETFROM:-0700
TZOFFSETTO:-0800
TZNAME:PST
DTSTART:20171105T090000
END:STANDARD
END:VTIMEZONE
BEGIN:VEVENT
DTSTART;TZID=America/Los_Angeles:20170619T180000
DTEND;TZID=America/Los_Angeles:20170619T200000
DTSTAMP:20260422T232640
CREATED:20170607T221719Z
LAST-MODIFIED:20170607T221719Z
UID:12535-1497895200-1497902400@sfbaytimes.com
SUMMARY:Music Mondays
DESCRIPTION:@ Mission Pie\, 2901 Mission Street at 25th. A cozy woman-owned business featuring all sorts of pies\, sweet and savory\, made from scratch\, and other locally sourced foods too. 6pm-8pm. missionpie.com\n\n
URL:https://sfbaytimes.com/event/music-mondays-2/
END:VEVENT
END:VCALENDAR