BEGIN:VCALENDAR
VERSION:2.0
PRODID:-//San Francisco Bay Times - ECPv5.1.0//NONSGML v1.0//EN
CALSCALE:GREGORIAN
METHOD:PUBLISH
X-WR-CALNAME:San Francisco Bay Times
X-ORIGINAL-URL:https://sfbaytimes.com
X-WR-CALDESC:Events for San Francisco Bay Times
BEGIN:VTIMEZONE
TZID:America/Los_Angeles
BEGIN:DAYLIGHT
TZOFFSETFROM:-0800
TZOFFSETTO:-0700
TZNAME:PDT
DTSTART:20190310T100000
END:DAYLIGHT
BEGIN:STANDARD
TZOFFSETFROM:-0700
TZOFFSETTO:-0800
TZNAME:PST
DTSTART:20191103T090000
END:STANDARD
END:VTIMEZONE
BEGIN:VEVENT
DTSTART;TZID=America/Los_Angeles:20190518T170000
DTEND;TZID=America/Los_Angeles:20190518T170000
DTSTAMP:20260420T174653
CREATED:20190515T214932Z
LAST-MODIFIED:20190515T214932Z
UID:23184-1558198800-1558198800@sfbaytimes.com
SUMMARY:NCLR 2019 Anniversary Celebration
DESCRIPTION:@ SF Marriott Marquis (Dinner) 780 Mission Street and City View at Metreon (Party)\, 135 4th Street. “The annual event” for lesbians and their friends\,” this occasion includes an inspiring dinner party followed by a high-energy party. 5pm Dinner/8:30pm Party. http://www.nclrights.org \n
URL:https://sfbaytimes.com/event/nclr-2019-anniversary-celebration/
END:VEVENT
END:VCALENDAR