BEGIN:VCALENDAR
VERSION:2.0
PRODID:-//San Francisco Bay Times - ECPv5.1.0//NONSGML v1.0//EN
CALSCALE:GREGORIAN
METHOD:PUBLISH
X-WR-CALNAME:San Francisco Bay Times
X-ORIGINAL-URL:https://sfbaytimes.com
X-WR-CALDESC:Events for San Francisco Bay Times
BEGIN:VTIMEZONE
TZID:America/Los_Angeles
BEGIN:DAYLIGHT
TZOFFSETFROM:-0800
TZOFFSETTO:-0700
TZNAME:PDT
DTSTART:20180311T100000
END:DAYLIGHT
BEGIN:STANDARD
TZOFFSETFROM:-0700
TZOFFSETTO:-0800
TZNAME:PST
DTSTART:20181104T090000
END:STANDARD
END:VTIMEZONE
BEGIN:VEVENT
DTSTART;TZID=America/Los_Angeles:20180308T180000
DTEND;TZID=America/Los_Angeles:20180308T220000
DTSTAMP:20260424T084741
CREATED:20180223T041157Z
LAST-MODIFIED:20180223T041157Z
UID:16921-1520532000-1520546400@sfbaytimes.com
SUMMARY:NightLife Spotlight
DESCRIPTION:@ California Academy of Sciences\, Golden Gate Park\, 55 Music Concourse Drive. “Curious Creatures NightLife” is the theme as Academy experts are on hand to present the tentacled\, the slimy and the lumpy. Along with music\, a variety of food and beverage options are available including special cocktails. 6–10pm.calacademy.org \n
URL:https://sfbaytimes.com/event/nightlife-spotlight-2/
END:VEVENT
END:VCALENDAR