BEGIN:VCALENDAR
VERSION:2.0
PRODID:-//San Francisco Bay Times - ECPv5.1.0//NONSGML v1.0//EN
CALSCALE:GREGORIAN
METHOD:PUBLISH
X-WR-CALNAME:San Francisco Bay Times
X-ORIGINAL-URL:https://sfbaytimes.com
X-WR-CALDESC:Events for San Francisco Bay Times
BEGIN:VTIMEZONE
TZID:America/Los_Angeles
BEGIN:DAYLIGHT
TZOFFSETFROM:-0800
TZOFFSETTO:-0700
TZNAME:PDT
DTSTART:20180311T100000
END:DAYLIGHT
BEGIN:STANDARD
TZOFFSETFROM:-0700
TZOFFSETTO:-0800
TZNAME:PST
DTSTART:20181104T090000
END:STANDARD
END:VTIMEZONE
BEGIN:VEVENT
DTSTART;TZID=America/Los_Angeles:20180329T180000
DTEND;TZID=America/Los_Angeles:20180329T220000
DTSTAMP:20260423T214613
CREATED:20180321T180030Z
LAST-MODIFIED:20180321T180030Z
UID:17206-1522346400-1522360800@sfbaytimes.com
SUMMARY:NightLife Spotlight
DESCRIPTION:@ California Academy of Sciences\, Golden Gate Park\, 55 Music Concourse Drive. “Women’s History Month” is the theme for the evening as the Academy’s ongoing Thursday NightLife series turns its focus to women in the sciences. Speakers will include women from the Academy’s staff and other Bay Area institutions delivering a crash course on topics from a dozen scientific fields. Plus music and a variety of food and beverage options are available including special cocktails. 6–10pm.         \ncalacademy.org \n
URL:https://sfbaytimes.com/event/nightlife-spotlight-6/
END:VEVENT
END:VCALENDAR