BEGIN:VCALENDAR
VERSION:2.0
PRODID:-//San Francisco Bay Times - ECPv5.1.0//NONSGML v1.0//EN
CALSCALE:GREGORIAN
METHOD:PUBLISH
X-WR-CALNAME:San Francisco Bay Times
X-ORIGINAL-URL:https://sfbaytimes.com
X-WR-CALDESC:Events for San Francisco Bay Times
BEGIN:VTIMEZONE
TZID:America/Los_Angeles
BEGIN:DAYLIGHT
TZOFFSETFROM:-0800
TZOFFSETTO:-0700
TZNAME:PDT
DTSTART:20170312T100000
END:DAYLIGHT
BEGIN:STANDARD
TZOFFSETFROM:-0700
TZOFFSETTO:-0800
TZNAME:PST
DTSTART:20171105T090000
END:STANDARD
END:VTIMEZONE
BEGIN:VEVENT
DTSTART;TZID=America/Los_Angeles:20170831T180000
DTEND;TZID=America/Los_Angeles:20170831T220000
DTSTAMP:20260422T034117
CREATED:20170828T232343Z
LAST-MODIFIED:20170828T232343Z
UID:13952-1504202400-1504216800@sfbaytimes.com
SUMMARY:NightLife Spotlight: August
DESCRIPTION:@ California Academy of Sciences\, Golden Gate Park\, 55 Music Concourse Drive. The weekly NightLife event presents an evening featuring “Adult Chemistry” with Drake’s Brewing Company and stories from the field with Dr. Jason G. Goldman. 6-10pm. calacademy.org \n
URL:https://sfbaytimes.com/event/nightlife-spotlight-august/
END:VEVENT
END:VCALENDAR