BEGIN:VCALENDAR
VERSION:2.0
PRODID:-//San Francisco Bay Times - ECPv5.1.0//NONSGML v1.0//EN
CALSCALE:GREGORIAN
METHOD:PUBLISH
X-WR-CALNAME:San Francisco Bay Times
X-ORIGINAL-URL:https://sfbaytimes.com
X-WR-CALDESC:Events for San Francisco Bay Times
BEGIN:VTIMEZONE
TZID:America/Los_Angeles
BEGIN:DAYLIGHT
TZOFFSETFROM:-0800
TZOFFSETTO:-0700
TZNAME:PDT
DTSTART:20190310T100000
END:DAYLIGHT
BEGIN:STANDARD
TZOFFSETFROM:-0700
TZOFFSETTO:-0800
TZNAME:PST
DTSTART:20191103T090000
END:STANDARD
END:VTIMEZONE
BEGIN:VEVENT
DTSTART;TZID=America/Los_Angeles:20190328T180000
DTEND;TZID=America/Los_Angeles:20190328T220000
DTSTAMP:20260420T143154
CREATED:20190322T035332Z
LAST-MODIFIED:20190322T035332Z
UID:22508-1553796000-1553810400@sfbaytimes.com
SUMMARY:NightLife Spotlight: Women in Science
DESCRIPTION:@ California Academy of Sciences\, 55 Music Concourse Drive. Featuring by DJ Lady Ryan\, the evening will include discussions led by local women in science from the Academy\, UC Berkeley\, Stanford\, UCSF and more. This event is one in the ongoing series of NightLife programs held on Thursdays with each featuring a unique theme and related content. 6-10pm. http://www.calacademy.org \n
URL:https://sfbaytimes.com/event/nightlife-spotlight-women-science/
END:VEVENT
END:VCALENDAR