BEGIN:VCALENDAR
VERSION:2.0
PRODID:-//San Francisco Bay Times - ECPv5.1.0//NONSGML v1.0//EN
CALSCALE:GREGORIAN
METHOD:PUBLISH
X-WR-CALNAME:San Francisco Bay Times
X-ORIGINAL-URL:https://sfbaytimes.com
X-WR-CALDESC:Events for San Francisco Bay Times
BEGIN:VTIMEZONE
TZID:America/Los_Angeles
BEGIN:DAYLIGHT
TZOFFSETFROM:-0800
TZOFFSETTO:-0700
TZNAME:PDT
DTSTART:20190310T100000
END:DAYLIGHT
BEGIN:STANDARD
TZOFFSETFROM:-0700
TZOFFSETTO:-0800
TZNAME:PST
DTSTART:20191103T090000
END:STANDARD
END:VTIMEZONE
BEGIN:VEVENT
DTSTART;TZID=America/Los_Angeles:20190211T190000
DTEND;TZID=America/Los_Angeles:20190211T190000
DTSTAMP:20260420T112546
CREATED:20190206T232355Z
LAST-MODIFIED:20190206T232355Z
UID:21747-1549911600-1549911600@sfbaytimes.com
SUMMARY:Oakland Interfaith Gospel Choir
DESCRIPTION:@ Freight & Salvage\, 2020 Addison\, Berkeley. Join Emmy winner Terrance Kelly as he directs the Choir in its celebration of diversity among races\, cultures and faiths plus a passion for music. 7pm. http://www.thefreight.org \n
URL:https://sfbaytimes.com/event/oakland-interfaith-gospel-choir/
END:VEVENT
END:VCALENDAR