BEGIN:VCALENDAR
VERSION:2.0
PRODID:-//San Francisco Bay Times - ECPv5.1.0//NONSGML v1.0//EN
CALSCALE:GREGORIAN
METHOD:PUBLISH
X-WR-CALNAME:San Francisco Bay Times
X-ORIGINAL-URL:https://sfbaytimes.com
X-WR-CALDESC:Events for San Francisco Bay Times
BEGIN:VTIMEZONE
TZID:America/Los_Angeles
BEGIN:DAYLIGHT
TZOFFSETFROM:-0800
TZOFFSETTO:-0700
TZNAME:PDT
DTSTART:20180311T100000
END:DAYLIGHT
BEGIN:STANDARD
TZOFFSETFROM:-0700
TZOFFSETTO:-0800
TZNAME:PST
DTSTART:20181104T090000
END:STANDARD
END:VTIMEZONE
BEGIN:VEVENT
DTSTART;TZID=America/Los_Angeles:20180120T150000
DTEND;TZID=America/Los_Angeles:20180120T220000
DTSTAMP:20260425T153140
CREATED:20180116T031052Z
LAST-MODIFIED:20180116T031052Z
UID:16215-1516460400-1516485600@sfbaytimes.com
SUMMARY:Official Women’s March After Party: Hear Our Vote Fundraiser
DESCRIPTION:@ Mars Bar\, 798 Brannan Street. Music and dancing will be provided at this benefit supporting the She Should Run organization. 3-10pm. Official Women’s March After Party on Facebook. \n
URL:https://sfbaytimes.com/event/official-womens-march-party-hear-vote-fundraiser/
END:VEVENT
END:VCALENDAR