BEGIN:VCALENDAR
VERSION:2.0
PRODID:-//San Francisco Bay Times - ECPv5.1.0//NONSGML v1.0//EN
CALSCALE:GREGORIAN
METHOD:PUBLISH
X-WR-CALNAME:San Francisco Bay Times
X-ORIGINAL-URL:https://sfbaytimes.com
X-WR-CALDESC:Events for San Francisco Bay Times
BEGIN:VTIMEZONE
TZID:America/Los_Angeles
BEGIN:DAYLIGHT
TZOFFSETFROM:-0800
TZOFFSETTO:-0700
TZNAME:PDT
DTSTART:20170312T100000
END:DAYLIGHT
BEGIN:STANDARD
TZOFFSETFROM:-0700
TZOFFSETTO:-0800
TZNAME:PST
DTSTART:20171105T090000
END:STANDARD
END:VTIMEZONE
BEGIN:VEVENT
DTSTART;TZID=America/Los_Angeles:20170616T151500
DTEND;TZID=America/Los_Angeles:20170616T170000
DTSTAMP:20260423T162121
CREATED:20170607T220617Z
LAST-MODIFIED:20170607T220617Z
UID:12511-1497626100-1497632400@sfbaytimes.com
SUMMARY:Older & Out
DESCRIPTION:@ North Berkeley Senior Center\, 1901 Hearst Avenue\, Berkeley. Group discussions on key topics such as dating\, loss of friends\, going back in the closet to survive\, invisibility in the LGBT community\, Alameda County services\, dealing with exes and children\, aging and loneliness. Repeats on Friday’s at 3:15pm. Info: anne@pacificcenter.org or 510-548-8283 ext 126.\n\n
URL:https://sfbaytimes.com/event/older-out-4/
END:VEVENT
END:VCALENDAR