BEGIN:VCALENDAR
VERSION:2.0
PRODID:-//San Francisco Bay Times - ECPv5.1.0//NONSGML v1.0//EN
CALSCALE:GREGORIAN
METHOD:PUBLISH
X-WR-CALNAME:San Francisco Bay Times
X-ORIGINAL-URL:https://sfbaytimes.com
X-WR-CALDESC:Events for San Francisco Bay Times
BEGIN:VTIMEZONE
TZID:America/Los_Angeles
BEGIN:DAYLIGHT
TZOFFSETFROM:-0800
TZOFFSETTO:-0700
TZNAME:PDT
DTSTART:20170312T100000
END:DAYLIGHT
BEGIN:STANDARD
TZOFFSETFROM:-0700
TZOFFSETTO:-0800
TZNAME:PST
DTSTART:20171105T090000
END:STANDARD
END:VTIMEZONE
BEGIN:VEVENT
DTSTART;TZID=America/Los_Angeles:20170811T170000
DTEND;TZID=America/Los_Angeles:20170811T200000
DTSTAMP:20260423T163019
CREATED:20170809T230551Z
LAST-MODIFIED:20170809T230551Z
UID:13540-1502470800-1502481600@sfbaytimes.com
SUMMARY:Opening Reception for the Annual Exhibit
DESCRIPTION:@ Harvey Milk Photo Center\, 50 Scott Street. A collection of images using various media by the Center’s members\, staff and volunteers.5-8pm; exhibit August 11-October 7. harveymilkphotocenter.org \n
URL:https://sfbaytimes.com/event/opening-reception-annual-exhibit/
END:VEVENT
END:VCALENDAR