BEGIN:VCALENDAR
VERSION:2.0
PRODID:-//San Francisco Bay Times - ECPv5.1.0//NONSGML v1.0//EN
CALSCALE:GREGORIAN
METHOD:PUBLISH
X-WR-CALNAME:San Francisco Bay Times
X-ORIGINAL-URL:https://sfbaytimes.com
X-WR-CALDESC:Events for San Francisco Bay Times
BEGIN:VTIMEZONE
TZID:America/Los_Angeles
BEGIN:DAYLIGHT
TZOFFSETFROM:-0800
TZOFFSETTO:-0700
TZNAME:PDT
DTSTART:20170312T100000
END:DAYLIGHT
BEGIN:STANDARD
TZOFFSETFROM:-0700
TZOFFSETTO:-0800
TZNAME:PST
DTSTART:20171105T090000
END:STANDARD
END:VTIMEZONE
BEGIN:VEVENT
DTSTART;TZID=America/Los_Angeles:20170811T120000
DTEND;TZID=America/Los_Angeles:20170811T230000
DTSTAMP:20260423T191755
CREATED:20170809T230834Z
LAST-MODIFIED:20170809T230834Z
UID:13546-1502452800-1502492400@sfbaytimes.com
SUMMARY:Outside Lands 2017
DESCRIPTION:@ Golden Gate Park. The 10th Anniversary of the annual three-day music festival (August 11-13) featuring Metallica\,\nThe Who and more. thespacelab.tv \n
URL:https://sfbaytimes.com/event/outside-lands-2017/
END:VEVENT
END:VCALENDAR