BEGIN:VCALENDAR
VERSION:2.0
PRODID:-//San Francisco Bay Times - ECPv5.1.0//NONSGML v1.0//EN
CALSCALE:GREGORIAN
METHOD:PUBLISH
X-WR-CALNAME:San Francisco Bay Times
X-ORIGINAL-URL:https://sfbaytimes.com
X-WR-CALDESC:Events for San Francisco Bay Times
BEGIN:VTIMEZONE
TZID:America/Los_Angeles
BEGIN:DAYLIGHT
TZOFFSETFROM:-0800
TZOFFSETTO:-0700
TZNAME:PDT
DTSTART:20170312T100000
END:DAYLIGHT
BEGIN:STANDARD
TZOFFSETFROM:-0700
TZOFFSETTO:-0800
TZNAME:PST
DTSTART:20171105T090000
END:STANDARD
END:VTIMEZONE
BEGIN:VEVENT
DTSTART;TZID=America/Los_Angeles:20170819T073000
DTEND;TZID=America/Los_Angeles:20170819T120000
DTSTAMP:20260422T000427
CREATED:20170809T234048Z
LAST-MODIFIED:20170809T234048Z
UID:13595-1503127800-1503144000@sfbaytimes.com
SUMMARY:Outward Bound City Skyline Challenge
DESCRIPTION:@ Hilton San Francisco Union Square\, 333 Compiled by Blake Dillon Calendar of Upcoming Events sfbaytimes.com\nSAN FRANCISCO BAY TIMES AUGUST 10\, 2017 29 O’Farrell Street. Join Castro Rotary Club members volunteering in support of the 2-day fundraiser. 7:30am-12pm. portal.clubrunner.ca/13807 \n
URL:https://sfbaytimes.com/event/outward-bound-city-skyline-challenge/
END:VEVENT
END:VCALENDAR